BEGIN:VCALENDAR
VERSION:2.0
PRODID:-//Diocese Nantes - ECPv6.15.18//NONSGML v1.0//EN
CALSCALE:GREGORIAN
METHOD:PUBLISH
X-ORIGINAL-URL:https://www.diocese44.fr
X-WR-CALDESC:Évènements pour Diocese Nantes
REFRESH-INTERVAL;VALUE=DURATION:PT1H
X-Robots-Tag:noindex
X-PUBLISHED-TTL:PT1H
BEGIN:VTIMEZONE
TZID:Europe/Paris
BEGIN:DAYLIGHT
TZOFFSETFROM:+0100
TZOFFSETTO:+0200
TZNAME:CEST
DTSTART:20210328T010000
END:DAYLIGHT
BEGIN:STANDARD
TZOFFSETFROM:+0200
TZOFFSETTO:+0100
TZNAME:CET
DTSTART:20211031T010000
END:STANDARD
BEGIN:DAYLIGHT
TZOFFSETFROM:+0100
TZOFFSETTO:+0200
TZNAME:CEST
DTSTART:20220327T010000
END:DAYLIGHT
BEGIN:STANDARD
TZOFFSETFROM:+0200
TZOFFSETTO:+0100
TZNAME:CET
DTSTART:20221030T010000
END:STANDARD
BEGIN:DAYLIGHT
TZOFFSETFROM:+0100
TZOFFSETTO:+0200
TZNAME:CEST
DTSTART:20230326T010000
END:DAYLIGHT
BEGIN:STANDARD
TZOFFSETFROM:+0200
TZOFFSETTO:+0100
TZNAME:CET
DTSTART:20231029T010000
END:STANDARD
END:VTIMEZONE
BEGIN:VEVENT
DTSTART;TZID=Europe/Paris:20220602T190000
DTEND;TZID=Europe/Paris:20220602T190000
DTSTAMP:20260420T142400
CREATED:20260204T084154Z
LAST-MODIFIED:20260204T135405Z
UID:80744-1654196400-1654196400@www.diocese44.fr
SUMMARY:Rencontre avec Mathieu Detchessahar chez Siloé
DESCRIPTION:Rencontre avec Mathieu Detchessahar\, auteur de « La Nation\, chemin de l’universel ? »\, le jeudi 2 juin 2022 à 19h à la librairie Siloë (3 rue du général Leclerc de Hauteclocque à Nantes\, près de la Cathédrale). \nPartenariat de Radio Fidélité\n \n  \n 
URL:https://www.diocese44.fr/event/rencontre-avec-mathieu-detchessahar-chez-siloe/
LOCATION:Librairie Siloë\, 3 rue Général Leclerc de Hauteclocque\, Nantes
CATEGORIES:Librairie Siloé,Radio Fidélité
ATTACH;FMTTYPE=image/jpeg:https://www.diocese44.fr/wp-content/uploads/2022/05/Siloe_20220602_Detchessahar_rencontre.jpg
END:VEVENT
BEGIN:VEVENT
DTSTART;TZID=Europe/Paris:20220611T150000
DTEND;TZID=Europe/Paris:20220611T180000
DTSTAMP:20260420T142400
CREATED:20260204T084154Z
LAST-MODIFIED:20260204T135405Z
UID:80743-1654959600-1654970400@www.diocese44.fr
SUMMARY:Rencontre-dédicace avec Pierre Durieux et François-Xavier Peres
DESCRIPTION:Rencontre dédicace avec Pierre Durieux et François-Xavier Peres\, co-auteurs de « Nous\, pères\, qui sommes sur terre »\, le samedi 11 juin 2022 de 15h à 18h à la librairie Siloë (3 rue du général Leclerc de Hauteclocque à Nantes\, près de la Cathédrale). \nPartenariat de Radio Fidélité\n \n  \n 
URL:https://www.diocese44.fr/event/rencontre-dedicace-avec-pierre-durieux-et-francois-xavier-peres/
LOCATION:Librairie Siloë\, 3 rue Général Leclerc de Hauteclocque\, Nantes
CATEGORIES:Librairie Siloé,Radio Fidélité
ATTACH;FMTTYPE=image/jpeg:https://www.diocese44.fr/wp-content/uploads/2022/05/Siloe_20220611_Durieux-Peres_dedicace.jpg
END:VEVENT
BEGIN:VEVENT
DTSTART;TZID=Europe/Paris:20220616T180000
DTEND;TZID=Europe/Paris:20220616T193000
DTSTAMP:20260420T142400
CREATED:20260204T084157Z
LAST-MODIFIED:20260204T135405Z
UID:80751-1655402400-1655407800@www.diocese44.fr
SUMMARY:Table ronde « Heureux comme un chrétien au travail »
DESCRIPTION:Dans le cadre des rencontres de Siloë\, la librairie Siloë de Nantes propose une table ronde animée par Élise Le Mer autour du thème « Heureux comme un chrétien au travail » avec Jacques de Scorraille\, Marianne de Boisredon et Pierre Durieux. \nElle aura lieu le jeudi 16 juin 2022 de 18h à 19h30 à la Librairie Siloë (3 rue du Général Leclerc de Hauteclocque – 44000 Nantes) \nRéservation : 02 40 89 11 18 – siloelis@wanadoo.fr \nLa table ronde sera à la fois retransmise en direct sur la chaine YouTube de Siloë\, Radio Fidélité et Facebook.
URL:https://www.diocese44.fr/event/table-ronde-heureux-comme-un-chretien-au-travail/
LOCATION:Librairie Siloë\, 3 rue Général Leclerc de Hauteclocque\, Nantes
CATEGORIES:Librairie Siloé,Radio Fidélité
ATTACH;FMTTYPE=image/jpeg:https://www.diocese44.fr/wp-content/uploads/2022/05/Siloe_20220616_table-ronde_affiche.jpg
END:VEVENT
END:VCALENDAR