BEGIN:VCALENDAR
VERSION:2.0
PRODID:-//Diocese Nantes - ECPv6.15.18//NONSGML v1.0//EN
CALSCALE:GREGORIAN
METHOD:PUBLISH
X-ORIGINAL-URL:https://www.diocese44.fr
X-WR-CALDESC:Évènements pour Diocese Nantes
REFRESH-INTERVAL;VALUE=DURATION:PT1H
X-Robots-Tag:noindex
X-PUBLISHED-TTL:PT1H
BEGIN:VTIMEZONE
TZID:Europe/Paris
BEGIN:DAYLIGHT
TZOFFSETFROM:+0100
TZOFFSETTO:+0200
TZNAME:CEST
DTSTART:20210328T010000
END:DAYLIGHT
BEGIN:STANDARD
TZOFFSETFROM:+0200
TZOFFSETTO:+0100
TZNAME:CET
DTSTART:20211031T010000
END:STANDARD
BEGIN:DAYLIGHT
TZOFFSETFROM:+0100
TZOFFSETTO:+0200
TZNAME:CEST
DTSTART:20220327T010000
END:DAYLIGHT
BEGIN:STANDARD
TZOFFSETFROM:+0200
TZOFFSETTO:+0100
TZNAME:CET
DTSTART:20221030T010000
END:STANDARD
BEGIN:DAYLIGHT
TZOFFSETFROM:+0100
TZOFFSETTO:+0200
TZNAME:CEST
DTSTART:20230326T010000
END:DAYLIGHT
BEGIN:STANDARD
TZOFFSETFROM:+0200
TZOFFSETTO:+0100
TZNAME:CET
DTSTART:20231029T010000
END:STANDARD
END:VTIMEZONE
BEGIN:VEVENT
DTSTART;TZID=Europe/Paris:20220924T150000
DTEND;TZID=Europe/Paris:20220924T180000
DTSTAMP:20260420T093751
CREATED:20260204T084249Z
LAST-MODIFIED:20260204T135417Z
UID:80818-1664031600-1664042400@www.diocese44.fr
SUMMARY:Rencontre dédicace avec le père Daniel Foucher
DESCRIPTION:La Librairie Siloë\, en partenariat avec Radio-Fidélité\, vous invite à une rencontre-dédicace avec le père Daniel Foucher autour de son ouvrage « Spiritualités orientales et foi en Jésus-Christ ». \nSamedi 24 septembre 2022\, de 15h à 18h\, à la librairie Siloë (3 rue du Générale Leclerc de Hautecloque – 44000 Nantes)
URL:https://www.diocese44.fr/event/rencontre-dedicace-avec-le-pere-daniel-foucher/
LOCATION:Librairie Siloë\, 3 rue Général Leclerc de Hauteclocque\, Nantes
CATEGORIES:Librairie Siloé,Radio Fidélité
ATTACH;FMTTYPE=image/jpeg:https://www.diocese44.fr/wp-content/uploads/2022/09/Siloe_20220924_Daniel-Foucher-dedicace.jpg
END:VEVENT
END:VCALENDAR