BEGIN:VCALENDAR
VERSION:2.0
PRODID:-//Diocese Nantes - ECPv6.15.18//NONSGML v1.0//EN
CALSCALE:GREGORIAN
METHOD:PUBLISH
X-WR-CALNAME:Diocese Nantes
X-ORIGINAL-URL:https://www.diocese44.fr
X-WR-CALDESC:Évènements pour Diocese Nantes
REFRESH-INTERVAL;VALUE=DURATION:PT1H
X-Robots-Tag:noindex
X-PUBLISHED-TTL:PT1H
BEGIN:VTIMEZONE
TZID:Europe/Paris
BEGIN:DAYLIGHT
TZOFFSETFROM:+0100
TZOFFSETTO:+0200
TZNAME:CEST
DTSTART:20210328T010000
END:DAYLIGHT
BEGIN:STANDARD
TZOFFSETFROM:+0200
TZOFFSETTO:+0100
TZNAME:CET
DTSTART:20211031T010000
END:STANDARD
BEGIN:DAYLIGHT
TZOFFSETFROM:+0100
TZOFFSETTO:+0200
TZNAME:CEST
DTSTART:20220327T010000
END:DAYLIGHT
BEGIN:STANDARD
TZOFFSETFROM:+0200
TZOFFSETTO:+0100
TZNAME:CET
DTSTART:20221030T010000
END:STANDARD
BEGIN:DAYLIGHT
TZOFFSETFROM:+0100
TZOFFSETTO:+0200
TZNAME:CEST
DTSTART:20230326T010000
END:DAYLIGHT
BEGIN:STANDARD
TZOFFSETFROM:+0200
TZOFFSETTO:+0100
TZNAME:CET
DTSTART:20231029T010000
END:STANDARD
END:VTIMEZONE
BEGIN:VEVENT
DTSTART;TZID=Europe/Paris:20221119T150000
DTEND;TZID=Europe/Paris:20221119T180000
DTSTAMP:20260420T061512
CREATED:20260204T084400Z
LAST-MODIFIED:20260204T135428Z
UID:80873-1668870000-1668880800@www.diocese44.fr
SUMMARY:Dédicace avec Inès d'Oysonville chez Siloë
DESCRIPTION:Rencontre dédicace avec Inès d’Oysonville\, le samedi 19 novembre 2022 de 15h à 18h à la librairie Siloë (3 rue du général Leclerc de Hauteclocque à Nantes\, près de la Cathédrale). \nInès d’Oysonville est l’auteure de nombreux outils et ouvrages pour l’éveil à la foi des enfants et notamment de « Raconte-moi la Belle histoire de Noël ». \nPartenariat de Radio Fidélité\n \n  \n 
URL:https://www.diocese44.fr/event/dedicace-avec-ines-doysonville-chez-siloe/
LOCATION:Librairie Siloë\, 3 rue Général Leclerc de Hauteclocque\, Nantes
CATEGORIES:Librairie Siloé,Radio Fidélité
ATTACH;FMTTYPE=image/png:https://www.diocese44.fr/wp-content/uploads/2022/11/Siloe_20221119_Ines-d-oysonville_dedicace.png
END:VEVENT
BEGIN:VEVENT
DTSTART;TZID=Europe/Paris:20221119T150000
DTEND;TZID=Europe/Paris:20221119T180000
DTSTAMP:20260420T061512
CREATED:20260204T084400Z
LAST-MODIFIED:20260204T135432Z
UID:80874-1668870000-1668880800@www.diocese44.fr
SUMMARY:Dédicace avec Suzana Guinart Miron chez Siloë
DESCRIPTION:Rencontre dédicace avec Suzana Guinart Miron\, le samedi 19 novembre 2022 de 15h à 18h à la librairie Siloë (3 rue du général Leclerc de Hauteclocque à Nantes\, près de la Cathédrale). \nSuzana Guinart Miron est née dans une petite ville viticole de Roumanie\, près de la frontière moldave. Passionnée d’histoire et des langues\, elle a fait ses études universitaires à Iassy\, en Roumanie\, puis à Dijon\, en Bourgogne. Elle est l’auteure de « Merveilleux Noëls de Roumanie »\, recueil de contes traditionnels tirés de légendes populaires ancestrales et de l’imagination féconde des écrivains roumains depuis le XIXe siècle. \nPartenariat de Radio Fidélité\n \n  \n 
URL:https://www.diocese44.fr/event/dedicace-avec-suzana-guinart-miron-chez-siloe/
LOCATION:Librairie Siloë\, 3 rue Général Leclerc de Hauteclocque\, Nantes
CATEGORIES:Librairie Siloé,Radio Fidélité
ATTACH;FMTTYPE=image/jpeg:https://www.diocese44.fr/wp-content/uploads/2022/11/Siloe_20221119_Suzana-Guinart-Miron_dedicace.jpg
END:VEVENT
END:VCALENDAR