BEGIN:VCALENDAR
VERSION:2.0
PRODID:-//Diocese Nantes - ECPv6.15.18//NONSGML v1.0//EN
CALSCALE:GREGORIAN
METHOD:PUBLISH
X-WR-CALNAME:Diocese Nantes
X-ORIGINAL-URL:https://www.diocese44.fr
X-WR-CALDESC:Évènements pour Diocese Nantes
REFRESH-INTERVAL;VALUE=DURATION:PT1H
X-Robots-Tag:noindex
X-PUBLISHED-TTL:PT1H
BEGIN:VTIMEZONE
TZID:Europe/Paris
BEGIN:DAYLIGHT
TZOFFSETFROM:+0100
TZOFFSETTO:+0200
TZNAME:CEST
DTSTART:20210328T010000
END:DAYLIGHT
BEGIN:STANDARD
TZOFFSETFROM:+0200
TZOFFSETTO:+0100
TZNAME:CET
DTSTART:20211031T010000
END:STANDARD
BEGIN:DAYLIGHT
TZOFFSETFROM:+0100
TZOFFSETTO:+0200
TZNAME:CEST
DTSTART:20220327T010000
END:DAYLIGHT
BEGIN:STANDARD
TZOFFSETFROM:+0200
TZOFFSETTO:+0100
TZNAME:CET
DTSTART:20221030T010000
END:STANDARD
BEGIN:DAYLIGHT
TZOFFSETFROM:+0100
TZOFFSETTO:+0200
TZNAME:CEST
DTSTART:20230326T010000
END:DAYLIGHT
BEGIN:STANDARD
TZOFFSETFROM:+0200
TZOFFSETTO:+0100
TZNAME:CET
DTSTART:20231029T010000
END:STANDARD
END:VTIMEZONE
BEGIN:VEVENT
DTSTART;TZID=Europe/Paris:20221203T150000
DTEND;TZID=Europe/Paris:20221203T180000
DTSTAMP:20260420T063530
CREATED:20260204T084418Z
LAST-MODIFIED:20260204T135439Z
UID:80888-1670079600-1670090400@www.diocese44.fr
SUMMARY:Dédicace avec Loïc Le Borgne chez Siloë
DESCRIPTION:Rencontre dédicace avec Loïc Le Borgne\, le samedi 3 décembre 2022 de 15h à 18h à la librairie Siloë (3 rue du général Leclerc de Hauteclocque à Nantes\, près de la Cathédrale). \nLoïc Le Borgne a écrit de nombreux livres pour les adolescents. Spécialiste du roman d’anticipation\, il signe avec la série Les Loups des aventures palpitantes\, mais aussi une réflexion sur le monde d’aujourd’hui… \nPartenariat de Radio Fidélité\n \n  \n 
URL:https://www.diocese44.fr/event/dedicace-avec-loic-le-borgne-chez-siloe/
LOCATION:Librairie Siloë\, 3 rue Général Leclerc de Hauteclocque\, Nantes
CATEGORIES:Librairie Siloé,Radio Fidélité
ATTACH;FMTTYPE=image/jpeg:https://www.diocese44.fr/wp-content/uploads/2022/11/Siloe_20221203_Le-Borgne_Siloe_affiche.jpg
END:VEVENT
END:VCALENDAR