BEGIN:VCALENDAR
VERSION:2.0
PRODID:-//Diocese Nantes - ECPv6.15.18//NONSGML v1.0//EN
CALSCALE:GREGORIAN
METHOD:PUBLISH
X-ORIGINAL-URL:https://www.diocese44.fr
X-WR-CALDESC:Évènements pour Diocese Nantes
REFRESH-INTERVAL;VALUE=DURATION:PT1H
X-Robots-Tag:noindex
X-PUBLISHED-TTL:PT1H
BEGIN:VTIMEZONE
TZID:Europe/Paris
BEGIN:DAYLIGHT
TZOFFSETFROM:+0100
TZOFFSETTO:+0200
TZNAME:CEST
DTSTART:20220327T010000
END:DAYLIGHT
BEGIN:STANDARD
TZOFFSETFROM:+0200
TZOFFSETTO:+0100
TZNAME:CET
DTSTART:20221030T010000
END:STANDARD
BEGIN:DAYLIGHT
TZOFFSETFROM:+0100
TZOFFSETTO:+0200
TZNAME:CEST
DTSTART:20230326T010000
END:DAYLIGHT
BEGIN:STANDARD
TZOFFSETFROM:+0200
TZOFFSETTO:+0100
TZNAME:CET
DTSTART:20231029T010000
END:STANDARD
BEGIN:DAYLIGHT
TZOFFSETFROM:+0100
TZOFFSETTO:+0200
TZNAME:CEST
DTSTART:20240331T010000
END:DAYLIGHT
BEGIN:STANDARD
TZOFFSETFROM:+0200
TZOFFSETTO:+0100
TZNAME:CET
DTSTART:20241027T010000
END:STANDARD
END:VTIMEZONE
BEGIN:VEVENT
DTSTART;TZID=Europe/Paris:20230125T203000
DTEND;TZID=Europe/Paris:20230125T203000
DTSTAMP:20260420T043713
CREATED:20260204T084455Z
LAST-MODIFIED:20260204T135451Z
UID:80918-1674678600-1674678600@www.diocese44.fr
SUMMARY:Conférence « Faites des pères »
DESCRIPTION:Jean-Paul Béchu\, ancien commissaire général des scouts unitaires de France\, entrepreneur et fondateur d’Espérancia\, Pierre Durieux\, secrétaire général de Lazare et François-Xavier Pérès\, ancien président d’Alliance Vita sont les trois auteurs du livre « Nous pères qui sommes sur terre ».\nTransformés par la paternité et leurs épreuves\, dans un monde où la paternité est interrogée\, ils veulent témoigner du sens de leur paternité\, « ce don que l’on reçoit d’en haut\, et qui se vit\, jour après jour\, sur terre ».\nIls seront présents le mercredi 25 janvier 2023 à 20h30 à la Maison diocésaine Saint-Clair pour la conférence « Faites des pères ». \nPartenaires : La librairie Siloë et Radio fidélité
URL:https://www.diocese44.fr/event/conference-faites-des-peres/
LOCATION:Maison diocésaine Saint-Clair\, 7 Chemin de la Censive du Tertre\, Nantes\, France
CATEGORIES:Librairie Siloé,Radio Fidélité
ATTACH;FMTTYPE=image/jpeg:https://www.diocese44.fr/wp-content/uploads/2023/01/20230125_Faites-des-peres_conference.jpg
END:VEVENT
END:VCALENDAR