BEGIN:VCALENDAR
VERSION:2.0
PRODID:-//Diocese Nantes - ECPv6.15.18//NONSGML v1.0//EN
CALSCALE:GREGORIAN
METHOD:PUBLISH
X-WR-CALNAME:Diocese Nantes
X-ORIGINAL-URL:https://www.diocese44.fr
X-WR-CALDESC:Évènements pour Diocese Nantes
REFRESH-INTERVAL;VALUE=DURATION:PT1H
X-Robots-Tag:noindex
X-PUBLISHED-TTL:PT1H
BEGIN:VTIMEZONE
TZID:Europe/Paris
BEGIN:DAYLIGHT
TZOFFSETFROM:+0100
TZOFFSETTO:+0200
TZNAME:CEST
DTSTART:20220327T010000
END:DAYLIGHT
BEGIN:STANDARD
TZOFFSETFROM:+0200
TZOFFSETTO:+0100
TZNAME:CET
DTSTART:20221030T010000
END:STANDARD
BEGIN:DAYLIGHT
TZOFFSETFROM:+0100
TZOFFSETTO:+0200
TZNAME:CEST
DTSTART:20230326T010000
END:DAYLIGHT
BEGIN:STANDARD
TZOFFSETFROM:+0200
TZOFFSETTO:+0100
TZNAME:CET
DTSTART:20231029T010000
END:STANDARD
BEGIN:DAYLIGHT
TZOFFSETFROM:+0100
TZOFFSETTO:+0200
TZNAME:CEST
DTSTART:20240331T010000
END:DAYLIGHT
BEGIN:STANDARD
TZOFFSETFROM:+0200
TZOFFSETTO:+0100
TZNAME:CET
DTSTART:20241027T010000
END:STANDARD
END:VTIMEZONE
BEGIN:VEVENT
DTSTART;TZID=Europe/Paris:20230504T203000
DTEND;TZID=Europe/Paris:20230504T223000
DTSTAMP:20260420T090441
CREATED:20260204T084649Z
LAST-MODIFIED:20260204T135641Z
UID:81057-1683232200-1683239400@www.diocese44.fr
SUMMARY:Soirée découverte du CVX
DESCRIPTION:La Communauté de Vie Chrétienne (CVX) vous propose de vivre un temps d’échange et de convivialité\, de goûter la saveur du partage\, chercher et trouver Dieu dans son quotidien. \nVenez découvrir la Communauté de Vie Chrétienne et la spiritualité Ignatienne\, lors de la « Soirée OPEN CVX »\, jeudi 4 mai 2023 de 20h30 à 22h30 à la salle familiale face au presbytère (2 rue Jean XXII – 44470 Carquefou). \nRenseignements : 06.22.45.54.97 – www.cvxfrance.com
URL:https://www.diocese44.fr/event/soiree-decouverte-du-cvx/
LOCATION:Presbytère de Carquefou\, 2 rue Jean XXIII\, Carquefou
CATEGORIES:CVX
ATTACH;FMTTYPE=image/jpeg:https://www.diocese44.fr/wp-content/uploads/2023/04/cvx_donnez-du-gout-a-vos-vies_header.jpg
END:VEVENT
BEGIN:VEVENT
DTSTART;TZID=Europe/Paris:20230511T200000
DTEND;TZID=Europe/Paris:20230511T220000
DTSTAMP:20260420T090441
CREATED:20260204T084637Z
LAST-MODIFIED:20260204T135638Z
UID:81050-1683835200-1683842400@www.diocese44.fr
SUMMARY:Soirées "découverte" de la Communauté de Vie Chrétienne (CVX)
DESCRIPTION:Venez et voyez ! \nLes membres de la Communauté de Vie Chrétienne (CVX) organisent deux soirées « découverte » *.\nQue vous soyez simplement curieux de connaître notre manière de vivre et de partager\, ou que vous vous demandiez si cela pourrait correspondre à ce que vous cherchez\, vous serez les bienvenus. \n\nJeudi 11 mai 2023 à Guérande intra-muros (Salle Sainte-Anne – place Charles Müller)\n\nSoirée de 20h à 22h suivie d’un verre de l’amitié. \nRenseignements : 07  82 97 00 84 \n  \n\n(*) La première a eut lieu le Mardi 9 mai 2023 au Carré Sainte-Anne à Saint-Nazaire
URL:https://www.diocese44.fr/event/soirees-decouverte-de-la-communaute-de-vie-chretienne-cvx/
LOCATION:Salle Sainte-Anne de Guérande\, place Charles Müller\, Guérande
CATEGORIES:CVX
ATTACH;FMTTYPE=image/png:https://www.diocese44.fr/wp-content/uploads/2023/04/CVX_soiree-decouverte_20250509-et-11_flyer.png
END:VEVENT
END:VCALENDAR