BEGIN:VCALENDAR
VERSION:2.0
PRODID:-//Diocese Nantes - ECPv6.15.18//NONSGML v1.0//EN
CALSCALE:GREGORIAN
METHOD:PUBLISH
X-WR-CALNAME:Diocese Nantes
X-ORIGINAL-URL:https://www.diocese44.fr
X-WR-CALDESC:Évènements pour Diocese Nantes
REFRESH-INTERVAL;VALUE=DURATION:PT1H
X-Robots-Tag:noindex
X-PUBLISHED-TTL:PT1H
BEGIN:VTIMEZONE
TZID:Europe/Paris
BEGIN:DAYLIGHT
TZOFFSETFROM:+0100
TZOFFSETTO:+0200
TZNAME:CEST
DTSTART:20210328T010000
END:DAYLIGHT
BEGIN:STANDARD
TZOFFSETFROM:+0200
TZOFFSETTO:+0100
TZNAME:CET
DTSTART:20211031T010000
END:STANDARD
BEGIN:DAYLIGHT
TZOFFSETFROM:+0100
TZOFFSETTO:+0200
TZNAME:CEST
DTSTART:20220327T010000
END:DAYLIGHT
BEGIN:STANDARD
TZOFFSETFROM:+0200
TZOFFSETTO:+0100
TZNAME:CET
DTSTART:20221030T010000
END:STANDARD
BEGIN:DAYLIGHT
TZOFFSETFROM:+0100
TZOFFSETTO:+0200
TZNAME:CEST
DTSTART:20230326T010000
END:DAYLIGHT
BEGIN:STANDARD
TZOFFSETFROM:+0200
TZOFFSETTO:+0100
TZNAME:CET
DTSTART:20231029T010000
END:STANDARD
END:VTIMEZONE
BEGIN:VEVENT
DTSTART;TZID=Europe/Paris:20221003T180000
DTEND;TZID=Europe/Paris:20221003T180000
DTSTAMP:20260420T035212
CREATED:20260204T084254Z
LAST-MODIFIED:20260204T135417Z
UID:80821-1664820000-1664820000@www.diocese44.fr
SUMMARY:Célébration du Transitus de Saint François
DESCRIPTION:Le 4 octobre\, l’Église célèbre la Saint François d’Assise. Mais cette solennité débute le 3 octobre au soir par le Transitus. Lors de cette cérémonie\, les fidèles revivent les derniers moments de saint François et font mémoire de ses derniers gestes et dernières paroles avant sa mort.\nLundi 3 octobre 2022 à 18h\, la Fraternité franciscaine séculière célèbre ainsi le Transitus de Saint François vers le Père avec les Sœurs Clarisses au Monastère Sainte-Claire (20 rue Molac à Nantes). \n 
URL:https://www.diocese44.fr/event/celebration-du-transitus-de-saint-francois/
LOCATION:Monastère des Sœurs clarisses\, 20 rue Molac\, Nantes
CATEGORIES:FFS
ATTACH;FMTTYPE=image/jpeg:https://www.diocese44.fr/wp-content/uploads/2022/09/francois-et-claire_header.jpg
END:VEVENT
BEGIN:VEVENT
DTSTART;TZID=Europe/Paris:20221008T110000
DTEND;TZID=Europe/Paris:20221008T110000
DTSTAMP:20260420T035212
CREATED:20260204T084254Z
LAST-MODIFIED:20260204T135417Z
UID:80819-1665226800-1665226800@www.diocese44.fr
SUMMARY:Journée de rentrée de la Fraternité franciscaine séculière
DESCRIPTION:La Fraternité franciscaine séculière fait sa rentrée le samedi 8 octobre 2022 chez les Frères franciscains de Canclaux (1 rue Desgrées-du-Lou – 44100 Nantes). \nProgramme :\n \n\n11h : Messe dans la crypte des Frères franciscains de Canclaux\n14h : Assemblée générale\n\n 
URL:https://www.diocese44.fr/event/journee-de-rentree-de-la-fraternite-franciscaine-seculiere/
LOCATION:Frères franciscains de Nantes\, 1 rue Colonel Desgrées du Lou\, Nantes
CATEGORIES:FFS
ATTACH;FMTTYPE=image/jpeg:https://www.diocese44.fr/wp-content/uploads/2022/09/FFS_logo_header.jpg
END:VEVENT
END:VCALENDAR