BEGIN:VCALENDAR
VERSION:2.0
PRODID:-//Diocese Nantes - ECPv6.15.18//NONSGML v1.0//EN
CALSCALE:GREGORIAN
METHOD:PUBLISH
X-ORIGINAL-URL:https://www.diocese44.fr
X-WR-CALDESC:Évènements pour Diocese Nantes
REFRESH-INTERVAL;VALUE=DURATION:PT1H
X-Robots-Tag:noindex
X-PUBLISHED-TTL:PT1H
BEGIN:VTIMEZONE
TZID:Europe/Paris
BEGIN:DAYLIGHT
TZOFFSETFROM:+0100
TZOFFSETTO:+0200
TZNAME:CEST
DTSTART:20210328T010000
END:DAYLIGHT
BEGIN:STANDARD
TZOFFSETFROM:+0200
TZOFFSETTO:+0100
TZNAME:CET
DTSTART:20211031T010000
END:STANDARD
BEGIN:DAYLIGHT
TZOFFSETFROM:+0100
TZOFFSETTO:+0200
TZNAME:CEST
DTSTART:20220327T010000
END:DAYLIGHT
BEGIN:STANDARD
TZOFFSETFROM:+0200
TZOFFSETTO:+0100
TZNAME:CET
DTSTART:20221030T010000
END:STANDARD
BEGIN:DAYLIGHT
TZOFFSETFROM:+0100
TZOFFSETTO:+0200
TZNAME:CEST
DTSTART:20230326T010000
END:DAYLIGHT
BEGIN:STANDARD
TZOFFSETFROM:+0200
TZOFFSETTO:+0100
TZNAME:CET
DTSTART:20231029T010000
END:STANDARD
END:VTIMEZONE
BEGIN:VEVENT
DTSTART;TZID=Europe/Paris:20221203T163000
DTEND;TZID=Europe/Paris:20221203T163000
DTSTAMP:20260419T203058
CREATED:20260204T084430Z
LAST-MODIFIED:20260204T135445Z
UID:80896-1670085000-1670085000@www.diocese44.fr
SUMMARY:Fête de la Saint François Xavier
DESCRIPTION:Fête de la Saint François Xavier le samedi 3 décembre pour la famille Ignatienne avec le MCC\, La Communauté du Chemin Neuf\, MAGIS\, CVX\, MEJ\, ICAM\, Les Chemins Ignatiens et les Pères Jésuites de Nantes. \nNous nous retrouvons samedi 3 décembre 2022 aux Apprentis d’Auteuil au lycée professionnel Hôtelier Daniel Brottier (chemin du Couvent à Bouguenais) pour célébrer ensemble l’Eucharistie à 16h30. Cette messe sera suivie d’un temps de convivialité et d’échanges autour d’un verre.
URL:https://www.diocese44.fr/event/fete-de-la-saint-francois-xavier/
CATEGORIES:Chemins ignatiens,Communauté du Chemin-Neuf,CVX,MCC,MEJ
ATTACH;FMTTYPE=image/jpeg:https://www.diocese44.fr/wp-content/uploads/2022/11/Famille-Ignatienne_20221203_affiche.jpg
END:VEVENT
END:VCALENDAR