BEGIN:VCALENDAR
VERSION:2.0
PRODID:-//Diocese Nantes - ECPv6.15.18//NONSGML v1.0//EN
CALSCALE:GREGORIAN
METHOD:PUBLISH
X-WR-CALNAME:Diocese Nantes
X-ORIGINAL-URL:https://www.diocese44.fr
X-WR-CALDESC:Évènements pour Diocese Nantes
REFRESH-INTERVAL;VALUE=DURATION:PT1H
X-Robots-Tag:noindex
X-PUBLISHED-TTL:PT1H
BEGIN:VTIMEZONE
TZID:Europe/Paris
BEGIN:DAYLIGHT
TZOFFSETFROM:+0100
TZOFFSETTO:+0200
TZNAME:CEST
DTSTART:20210328T010000
END:DAYLIGHT
BEGIN:STANDARD
TZOFFSETFROM:+0200
TZOFFSETTO:+0100
TZNAME:CET
DTSTART:20211031T010000
END:STANDARD
BEGIN:DAYLIGHT
TZOFFSETFROM:+0100
TZOFFSETTO:+0200
TZNAME:CEST
DTSTART:20220327T010000
END:DAYLIGHT
BEGIN:STANDARD
TZOFFSETFROM:+0200
TZOFFSETTO:+0100
TZNAME:CET
DTSTART:20221030T010000
END:STANDARD
BEGIN:DAYLIGHT
TZOFFSETFROM:+0100
TZOFFSETTO:+0200
TZNAME:CEST
DTSTART:20230326T010000
END:DAYLIGHT
BEGIN:STANDARD
TZOFFSETFROM:+0200
TZOFFSETTO:+0100
TZNAME:CET
DTSTART:20231029T010000
END:STANDARD
END:VTIMEZONE
BEGIN:VEVENT
DTSTART;TZID=Europe/Paris:20220331T090000
DTEND;TZID=Europe/Paris:20220331T170000
DTSTAMP:20260421T015648
CREATED:20260204T084030Z
LAST-MODIFIED:20260204T135347Z
UID:80653-1648717200-1648746000@www.diocese44.fr
SUMMARY:Journée des mamans
DESCRIPTION:« Ta vie est précieuse\, prends en soin ! » Mère Teresa \nLa fondation OCH propose une journée pour les mamans d’une personne malade ou handicapée\, pour souffler\, prendre soin de soi\, déposer les réalités du quotidien\, retrouver confiance et élan. \nAu programme : témoignage\, échanges entre mamans\, ateliers de détente et de ressourcement. \nCette journée aura lieu le jeudi 31 mars 2022 de 9h à 17h à la Maison diocésaine Saint-Clair à Nantes\nInscription : maman-nantes@och.fr \nUne formule condensée en une soirée est proposée en visio (sur zoom) pour les mamans qui ne peuvent pas rejoindre une ville. \nTélécharger le depliant-mamans-2022 \nInitiative soutenue par la pastorale de la Santé
URL:https://www.diocese44.fr/event/journee-des-mamans/
LOCATION:Maison diocésaine Saint-Clair\, 7 Chemin de la Censive du Tertre\, Nantes\, France
CATEGORIES:OCH,Santé
ATTACH;FMTTYPE=image/jpeg:https://www.diocese44.fr/wp-content/uploads/2022/02/OCH_journee-des-mamans_header.jpg
END:VEVENT
END:VCALENDAR