BEGIN:VCALENDAR
VERSION:2.0
PRODID:-//Diocese Nantes - ECPv6.15.18//NONSGML v1.0//EN
CALSCALE:GREGORIAN
METHOD:PUBLISH
X-WR-CALNAME:Diocese Nantes
X-ORIGINAL-URL:https://www.diocese44.fr
X-WR-CALDESC:Évènements pour Diocese Nantes
REFRESH-INTERVAL;VALUE=DURATION:PT1H
X-Robots-Tag:noindex
X-PUBLISHED-TTL:PT1H
BEGIN:VTIMEZONE
TZID:Europe/Paris
BEGIN:DAYLIGHT
TZOFFSETFROM:+0100
TZOFFSETTO:+0200
TZNAME:CEST
DTSTART:20220327T010000
END:DAYLIGHT
BEGIN:STANDARD
TZOFFSETFROM:+0200
TZOFFSETTO:+0100
TZNAME:CET
DTSTART:20221030T010000
END:STANDARD
BEGIN:DAYLIGHT
TZOFFSETFROM:+0100
TZOFFSETTO:+0200
TZNAME:CEST
DTSTART:20230326T010000
END:DAYLIGHT
BEGIN:STANDARD
TZOFFSETFROM:+0200
TZOFFSETTO:+0100
TZNAME:CET
DTSTART:20231029T010000
END:STANDARD
BEGIN:DAYLIGHT
TZOFFSETFROM:+0100
TZOFFSETTO:+0200
TZNAME:CEST
DTSTART:20240331T010000
END:DAYLIGHT
BEGIN:STANDARD
TZOFFSETFROM:+0200
TZOFFSETTO:+0100
TZNAME:CET
DTSTART:20241027T010000
END:STANDARD
END:VTIMEZONE
BEGIN:VEVENT
DTSTART;TZID=Europe/Paris:20230325T190000
DTEND;TZID=Europe/Paris:20230325T190000
DTSTAMP:20260420T122954
CREATED:20260204T084614Z
LAST-MODIFIED:20260204T135620Z
UID:81021-1679770800-1679770800@www.diocese44.fr
SUMMARY:Repas de soutien à l'Ukraine
DESCRIPTION:Madipax\, la Maison du Dialogue et de la Paix\, invite\, le public à venir soutenir le moral des ukrainiens en participant à un repas de soutien à l’Ukraine (repas confectionné par des ukrainiens) avec chants\, témoignages et animations le samedi 25 mars 2023 à 19h au restaurant « La Cocotte Solidaire«  (dans l’île de Versailles à Nantes). \n50% du montant du repas et les dons en numéraire seront directement reversés à une structure pour l’aide et le soutien à la population ukrainienne actuellement en grande souffrance. \nPrix du repas: 25 euros/personne \nRéservation obligatoire par mail :  maisondialogueetpaix@gmail.com jusqu’au 19 mars 2023 (une confirmation avec modalités de paiement sera envoyée dès réception).
URL:https://www.diocese44.fr/event/repas-de-soutien-a-lukraine/
LOCATION:La Cocotte Solidaire\, 1 Ile de Versailles\, Nantes
CATEGORIES:Repas solidaire
ATTACH;FMTTYPE=image/jpeg:https://www.diocese44.fr/wp-content/uploads/2023/03/Madipax_20230325_repas-ukrainien_affiche.jpg
END:VEVENT
END:VCALENDAR